BEGIN:VCALENDAR
VERSION:2.0
PRODID:-//wp-events-plugin.com//7.1.7//EN
TZID:Europe/Paris
X-WR-TIMEZONE:Europe/Paris
BEGIN:VEVENT
UID:0-623@tournon-sur-rhone.fr
DTSTART;TZID=Europe/Paris:20260328T203000
DTEND;TZID=Europe/Paris:20260328T233000
DTSTAMP:20250912T081126Z
URL:https://www.tournon-sur-rhone.fr/evenements/bach-les-variations-goldbe
 rg-vochora/
SUMMARY:Bach\, les Variations Goldberg [VOCHORA]
DESCRIPTION:Rebecca CHAILLOT piano\nCe concert est consacré à la grande o
 euvre pour clavier de Johann-Sebastian \, œuvre testamentaire\, au sommet
  de son génie\, dans laquelle il développe en 30 variations de haute vir
 tuosité\, arias\, canons\, inventions\, fugues\, gigues.\, chorals ornés
 \, toccatas . Ce monument est interprété par la talentueuse pianiste int
 ernationale Rebecca Chaillot : une heure intense de méditation\, et d’
 émerveillement.\nLa billetterie ouverte sur vochora.fr  et à l’ OT. Re
 nseignements&nbsp\;: vochora.fr ou 06 81 71 91 81
ATTACH;FMTTYPE=image/jpeg:https://www.tournon-sur-rhone.fr/app/uploads/202
 5/09/7-Rebecca-Chaillot.jpg
CATEGORIES:Concert / Musique
LOCATION:Chapelle Des Saints Coeur, 8 Rue du Mail 07300 Tournon-sur-Rhône\
 , France
X-APPLE-STRUCTURED-LOCATION;VALUE=URI;X-ADDRESS=Chapelle Des Saints Coeur, 
 8 Rue du Mail 07300 Tournon-sur-Rhône\, France;X-APPLE-RADIUS=100;X-TITLE
 =:geo:0,0
END:VEVENT
BEGIN:VTIMEZONE
TZID:Europe/Paris
X-LIC-LOCATION:Europe/Paris
BEGIN:STANDARD
DTSTART:20251026T020000
TZOFFSETFROM:+0200
TZOFFSETTO:+0100
TZNAME:CET
END:STANDARD
END:VTIMEZONE
END:VCALENDAR