BEGIN:VCALENDAR
VERSION:2.0
PRODID:-//wp-events-plugin.com//7.1.7//EN
TZID:Europe/Paris
X-WR-TIMEZONE:Europe/Paris
BEGIN:VEVENT
UID:0-736@tournon-sur-rhone.fr
DTSTART;TZID=Europe/Paris:20261111T113000
DTEND;TZID=Europe/Paris:20261111T123000
DTSTAMP:20260202T090146Z
URL:https://www.tournon-sur-rhone.fr/evenements/ceremonie-patriotique-7/
SUMMARY:Cérémonie patriotique
DESCRIPTION:Anniversaire de l'armistice de 1918Commémoration de la Victoir
 e et de la PaixHommage à tous les morts pour la France
ATTACH;FMTTYPE=image/jpeg:https://www.tournon-sur-rhone.fr/app/uploads/1/2
 026/02/eventail-drapeaux-scaled.jpg
CATEGORIES:Cérémonie
LOCATION:Monument aux morts - Square du Souvenir français   puis Défilé 
 vers Cimetière 07300 Tournon-sur-Rhône\, France
X-APPLE-STRUCTURED-LOCATION;VALUE=URI;X-ADDRESS=Monument aux morts - Square
  du Souvenir français   puis Défilé vers Cimetière 07300 Tournon-sur-R
 hône\, France;X-APPLE-RADIUS=100;X-TITLE=:geo:0,0
END:VEVENT
BEGIN:VTIMEZONE
TZID:Europe/Paris
X-LIC-LOCATION:Europe/Paris
BEGIN:STANDARD
DTSTART:20261025T020000
TZOFFSETFROM:+0200
TZOFFSETTO:+0100
TZNAME:CET
END:STANDARD
END:VTIMEZONE
END:VCALENDAR