BEGIN:VCALENDAR
VERSION:2.0
PRODID:-//wp-events-plugin.com//7.1.7//EN
TZID:Europe/Paris
X-WR-TIMEZONE:Europe/Paris
BEGIN:VEVENT
UID:0-750@tournon-sur-rhone.fr
DTSTART;TZID=Europe/Paris;VALUE=DATE:20260307
DTEND;TZID=Europe/Paris;VALUE=DATE:20260420
DTSTAMP:20260305T085909Z
URL:https://www.tournon-sur-rhone.fr/evenements/etonnantes-voyageuses-auto
 ur-du-monde/
SUMMARY:Étonnantes voyageuses autour du monde
DESCRIPTION:Pour la 6ème année consécutive\, la Ville de Tournon-sur-Rh
 ône met les femmes à l’honneur à travers une exposition consacrée au
 x pionnières du voyage.\nPendant longtemps\, les femmes qui voyageaient s
 eules ont été considérées comme des “aventurières”\, c’est-à-d
 ire des espionnes\, des courtisanes. Malgré la pression sociale\, nombreu
 ses sont celles qui sont parvenues à dépasser les préjugés de leur tem
 ps\, laissant&nbsp\;l’appel du large\, de l’aventure\, de la conquête
  ou de la science les emporter. Ces femmes ont fait le tour de la planète
 \, gravi des sommets\, exploré des terres inhospitalières\, affronté la
  faim\, le froid\, la peur.\nElles sont aussi allées à la rencontre d’
 autres peuples\, ont découvert de nouvelles espèces et changé le regard
  sur le monde. Pour suivre leurs désirs d’horizons lointains\, ces aven
 turières ont déployé force et courage\, démontrant que des femmes auss
 i peuvent aimer les défis\, rechercher parfois le danger\, au même titre
  que les hommes.&nbsp\;\nSi certaines ont eu du mal\, en leur temps\, à o
 btenir la reconnaissance pour leurs découvertes ou de leurs exploits\, ce
 s femmes de toutes les époques et de tous les continents sortent enfin de
 s oubliettes de l’Histoire et prennent aujourd’hui la place qui leur r
 evient dans le présent.&nbsp\;\nDe Catalina de Erauso (17e siècle) à no
 s contemporaines Sarah Marquis et Jessica Watson\, en passant par Alexandr
 a David-Néel\, Sacagawea ou Mary Seacole\, cette exposition vous invite 
 à la rencontre de quelques-unes de ces voyageuses et exploratrices except
 ionnelles.\nExposition visible du 7 mars au 19 avril 2026le long de la Pro
 menade Léon Perrier – Place du Quai Farconnet.\nCette exposition a ét
 é conçue par l’association FEMMES ICI ET AILLEURS (https://www.fia-ass
 o.org)
ATTACH;FMTTYPE=image/jpeg:https://www.tournon-sur-rhone.fr/app/uploads/1/2
 026/03/Exposition-etonnantes-voyageuses-Tournon-2026-vignette.jpg
CATEGORIES:Exposition
LOCATION:Quai Farconnet 07300 TOURNON-SUR-RHÔNE\, France
X-APPLE-STRUCTURED-LOCATION;VALUE=URI;X-ADDRESS=Quai Farconnet 07300 TOURNO
 N-SUR-RHÔNE\, France;X-APPLE-RADIUS=100;X-TITLE=:geo:0,0
END:VEVENT
BEGIN:VTIMEZONE
TZID:Europe/Paris
X-LIC-LOCATION:Europe/Paris
BEGIN:STANDARD
DTSTART:20251026T020000
TZOFFSETFROM:+0200
TZOFFSETTO:+0100
TZNAME:CET
END:STANDARD
BEGIN:DAYLIGHT
DTSTART:20260329T030000
TZOFFSETFROM:+0100
TZOFFSETTO:+0200
TZNAME:CEST
END:DAYLIGHT
END:VTIMEZONE
END:VCALENDAR