BEGIN:VCALENDAR
VERSION:2.0
PRODID:-//wp-events-plugin.com//7.1.7//EN
TZID:Europe/Paris
X-WR-TIMEZONE:Europe/Paris
BEGIN:VEVENT
UID:0-647@tournon-sur-rhone.fr
DTSTART;TZID=Europe/Paris:20260318T200000
DTEND;TZID=Europe/Paris:20260318T220000
DTSTAMP:20250925T090307Z
URL:https://www.tournon-sur-rhone.fr/evenements/lhomme-et-le-pecheur/
SUMMARY:L'homme et le pêcheur
DESCRIPTION:THÉÂTRE - COMÉDIE CONTEMPORAINE / SAISON SPECTACLES 2025-202
 6\nUne lumière artificielle envahit un ponton en face d’un étang myst
 érieux et sombre. Assis\, un homme en costume est en train de pêcher ave
 c une canne dépourvue de ligne. Il profite paisiblement du panorama de ce
 tte atmosphère surréelle quand un autre homme le rejoint\, il a une cord
 e au cou\, attachée à une lourde pierre qu’il porte dans ses mains\, s
 es intentions sont claires :\n“Je vais mettre fin à mes jours.”\n“P
 ourquoi donc ?”\n“Pour savoir enfin si je suis vivant.”\nÀ partir d
 e cette rencontre improbable et onirique un dialogue va s’instaurer entr
 e les deux personnages. Au fur et à mesure des visions vont capturer leur
  attention et se matérialiser devant les yeux du public. D’où viennent
  ces visions ? Est-on dans la réalité\, dans la fantaisie ou dans une pi
 èce de théâtre ? Toujours est-il que les deux personnages vont donner c
 orps à ce qu’ils voient ou à ce qu’ils croient voir…\nC’est à t
 ravers ces situations rocambolesques que l’on découvrira leur véritabl
 e identité. L’un est un homme qui\, à force de compromis et de peurs\,
  a perdu tout\ncontact avec ses propres sentiments\, et le second\, le pê
 cheur\, n’est rien d’autre que sa Mort\, une mort bien différente de 
 l’idée qu’on pourrait s’en faire.\nAprès avoir exploré tous les r
 ecoins de son inconscient par le biais de sa fantaisie\, notre homme sera-
 t-il encore prêt à accomplir son geste ? Et même si ce n’était pas l
 e cas\, pourra-t-il faire demi-tour après s’être approché si près de
  la Mort.\n+ D'INFOS SUR LE SPECTACLE : site Internet du Théâtre Jacques
  Bodoin
ATTACH;FMTTYPE=image/jpeg:https://www.tournon-sur-rhone.fr/app/uploads/1/2
 025/09/lhomme-et-le-pecheur-vignette.jpg
CATEGORIES:Théâtre
LOCATION:Théâtre Jacques Bodoin\, 1, Place Rampon 07300 Tournon-sur-Rhôn
 e\, France
X-APPLE-STRUCTURED-LOCATION;VALUE=URI;X-ADDRESS=1, Place Rampon 07300 Tourn
 on-sur-Rhône\, France;X-APPLE-RADIUS=100;X-TITLE=Théâtre Jacques Bodoin
 :geo:0,0
END:VEVENT
BEGIN:VTIMEZONE
TZID:Europe/Paris
X-LIC-LOCATION:Europe/Paris
BEGIN:STANDARD
DTSTART:20251026T020000
TZOFFSETFROM:+0200
TZOFFSETTO:+0100
TZNAME:CET
END:STANDARD
END:VTIMEZONE
END:VCALENDAR